BEGIN:VCALENDAR
VERSION:2.0
PRODID:SchoolNow
CALSCALE:GREGORIAN
BEGIN:VEVENT
UID:2d640978-4795-11f0-ac5c-02579766d9f7
DTSTAMP:20260420T153508Z
SUMMARY:TELPAS Reading & Writing (KG - 12th Grade)
URL;VALUE=URI:https://www.aristoiclassical.org/ac/calendar/8291802/telpas-r
 eading-writing-kg-12th-grade
DTSTART;VALUE=DATE:20260310
DTEND;VALUE=DATE:20260314
END:VEVENT
END:VCALENDAR
