BEGIN:VCALENDAR
VERSION:2.0
PRODID:SchoolNow
CALSCALE:GREGORIAN
BEGIN:VEVENT
UID:2d6408a6-4795-11f0-b912-02579766d9f7
DTSTAMP:20260420T153508Z
SUMMARY:TELPAS Listening & Speaking (KG - 12th Grade)
URL;VALUE=URI:https://www.aristoiclassical.org/ac/calendar/8291801/telpas-l
 istening-speaking-kg-12th-grade
DTSTART;VALUE=DATE:20260303
DTEND;VALUE=DATE:20260307
END:VEVENT
END:VCALENDAR
