BEGIN:VCALENDAR
VERSION:2.0
PRODID:SchoolNow
CALSCALE:GREGORIAN
BEGIN:VEVENT
UID:2d6407ca-4795-11f0-bfba-02579766d9f7
DTSTAMP:20260420T153508Z
SUMMARY:National Latin Exam (8th - 12th Grade)
URL;VALUE=URI:https://www.aristoiclassical.org/ac/calendar/8291800/national
 -latin-exam-8th-12th-grade
DTSTART;VALUE=DATE:20260303
DTEND;VALUE=DATE:20260306
END:VEVENT
END:VCALENDAR
