BEGIN:VCALENDAR
VERSION:2.0
PRODID:SchoolNow
CALSCALE:GREGORIAN
BEGIN:VEVENT
UID:2d6406ee-4795-11f0-b2c7-02579766d9f7
DTSTAMP:20260420T153508Z
SUMMARY:PTO Spirit Night
LOCATION:Chick-fil-A @ 249 & Jones
URL;VALUE=URI:https://www.aristoiclassical.org/ac/calendar/8291799/pto-spir
 it-night
DTSTART;VALUE=DATE:20260309
DTEND;VALUE=DATE:20260310
END:VEVENT
END:VCALENDAR
