BEGIN:VCALENDAR
VERSION:2.0
PRODID:SchoolNow
CALSCALE:GREGORIAN
BEGIN:VEVENT
UID:2d640612-4795-11f0-80ad-02579766d9f7
DTSTAMP:20260420T153508Z
SUMMARY:College Shirt Day
URL;VALUE=URI:https://www.aristoiclassical.org/ac/calendar/8291798/college-
 shirt-day
DTSTART;VALUE=DATE:20260226
DTEND;VALUE=DATE:20260227
END:VEVENT
END:VCALENDAR
