BEGIN:VCALENDAR
VERSION:2.0
PRODID:SchoolNow
CALSCALE:GREGORIAN
BEGIN:VEVENT
UID:2d640536-4795-11f0-b835-02579766d9f7
DTSTAMP:20260420T153508Z
SUMMARY:STAAR Interims Math & Algebra I EOC (3rd - 9th Grade)
URL;VALUE=URI:https://www.aristoiclassical.org/ac/calendar/8291797/staar-in
 terims-math-algebra-i-eoc-3rd-9th-grade
DTSTART;VALUE=DATE:20260224
DTEND;VALUE=DATE:20260228
END:VEVENT
END:VCALENDAR
