BEGIN:VCALENDAR
VERSION:2.0
PRODID:SchoolNow
CALSCALE:GREGORIAN
BEGIN:VEVENT
UID:2d6403ec-4795-11f0-ac22-02579766d9f7
DTSTAMP:20260420T153508Z
SUMMARY:PTO Staff Hospitality Luncheon
URL;VALUE=URI:https://www.aristoiclassical.org/ac/calendar/8291796/pto-staf
 f-hospitality-luncheon
DTSTART;VALUE=DATE:20260224
DTEND;VALUE=DATE:20260225
END:VEVENT
END:VCALENDAR
