BEGIN:VCALENDAR
VERSION:2.0
PRODID:SchoolNow
CALSCALE:GREGORIAN
BEGIN:VEVENT
UID:2d640310-4795-11f0-94f3-02579766d9f7
DTSTAMP:20260420T153508Z
SUMMARY:STAAR Interims Social Studies & US History (8th & 11th Grade)
URL;VALUE=URI:https://www.aristoiclassical.org/ac/calendar/8291795/staar-in
 terims-social-studies-us-history-8th-11th-grade
DTSTART;VALUE=DATE:20260217
DTEND;VALUE=DATE:20260220
END:VEVENT
END:VCALENDAR
