BEGIN:VCALENDAR
VERSION:2.0
PRODID:SchoolNow
CALSCALE:GREGORIAN
BEGIN:VEVENT
UID:2d64023e-4795-11f0-8b5a-02579766d9f7
DTSTAMP:20260420T153508Z
SUMMARY:President's Day - School Holiday - All Campuses
URL;VALUE=URI:https://www.aristoiclassical.org/ac/calendar/8291794/presiden
 ts-day-school-holiday-all-campuses
DTSTART;VALUE=DATE:20260216
DTEND;VALUE=DATE:20260217
END:VEVENT
END:VCALENDAR
