BEGIN:VCALENDAR
VERSION:2.0
PRODID:SchoolNow
CALSCALE:GREGORIAN
BEGIN:VEVENT
UID:2d640162-4795-11f0-8157-02579766d9f7
DTSTAMP:20260420T153508Z
SUMMARY:STAAR Interims Science & Biology (5th\, 8th\, & 9th Grade)
URL;VALUE=URI:https://www.aristoiclassical.org/ac/calendar/8291793/staar-in
 terims-science-biology-5th-8th-9th-grade
DTSTART;VALUE=DATE:20260210
DTEND;VALUE=DATE:20260213
END:VEVENT
END:VCALENDAR
