BEGIN:VCALENDAR
VERSION:2.0
PRODID:SchoolNow
CALSCALE:GREGORIAN
BEGIN:VEVENT
UID:2d640068-4795-11f0-9872-02579766d9f7
DTSTAMP:20260420T153508Z
SUMMARY:PTO Father/Daughter Dance - at PoP (K - 5th)
LOCATION:TBD
URL;VALUE=URI:https://www.aristoiclassical.org/ac/calendar/8291792/pto-fath
 er-daughter-dance-at-pop-k-5th
DTSTART;VALUE=DATE:20260207
DTEND;VALUE=DATE:20260208
END:VEVENT
END:VCALENDAR
