BEGIN:VCALENDAR
VERSION:2.0
PRODID:SchoolNow
CALSCALE:GREGORIAN
BEGIN:VEVENT
UID:2d63ff78-4795-11f0-9508-02579766d9f7
DTSTAMP:20260421T154008Z
SUMMARY:PTO Used Uniform Swap
URL;VALUE=URI:https://www.aristoiclassical.org/ac/calendar/8291791/pto-used
 -uniform-swap
DTSTART;VALUE=DATE:20260130
DTEND;VALUE=DATE:20260131
END:VEVENT
END:VCALENDAR
