BEGIN:VCALENDAR
VERSION:2.0
PRODID:SchoolNow
CALSCALE:GREGORIAN
BEGIN:VEVENT
UID:2d63fe9c-4795-11f0-a75a-02579766d9f7
DTSTAMP:20260421T154008Z
SUMMARY:PTO Staff Hospitality Luncheon
URL;VALUE=URI:https://www.aristoiclassical.org/ac/calendar/8291790/pto-staf
 f-hospitality-luncheon
DTSTART;VALUE=DATE:20260127
DTEND;VALUE=DATE:20260128
END:VEVENT
END:VCALENDAR
