BEGIN:VCALENDAR
VERSION:2.0
PRODID:SchoolNow
CALSCALE:GREGORIAN
BEGIN:VEVENT
UID:2d63fdca-4795-11f0-b55c-02579766d9f7
DTSTAMP:20260421T154008Z
SUMMARY:PTO Blood Drive
URL;VALUE=URI:https://www.aristoiclassical.org/ac/calendar/8291789/pto-bloo
 d-drive
DTSTART;VALUE=DATE:20260126
DTEND;VALUE=DATE:20260131
END:VEVENT
END:VCALENDAR
