BEGIN:VCALENDAR
VERSION:2.0
PRODID:SchoolNow
CALSCALE:GREGORIAN
BEGIN:VEVENT
UID:2d63fc1c-4795-11f0-acd9-02579766d9f7
DTSTAMP:20260421T154008Z
SUMMARY:MLK Jr. Day / School Holiday - All Campuses
URL;VALUE=URI:https://www.aristoiclassical.org/ac/calendar/8291787/mlk-jr-d
 ay-school-holiday-all-campuses
DTSTART;VALUE=DATE:20260119
DTEND;VALUE=DATE:20260120
END:VEVENT
END:VCALENDAR
