BEGIN:VCALENDAR
VERSION:2.0
PRODID:SchoolNow
CALSCALE:GREGORIAN
BEGIN:VEVENT
UID:2d63fa78-4795-11f0-b22d-02579766d9f7
DTSTAMP:20260421T154008Z
SUMMARY:No Dress Code Violations Casual Dress Day Q2
URL;VALUE=URI:https://www.aristoiclassical.org/ac/calendar/8291785/no-dress
 -code-violations-casual-dress-day-q2
DTSTART;VALUE=DATE:20260114
DTEND;VALUE=DATE:20260115
END:VEVENT
END:VCALENDAR
