BEGIN:VCALENDAR
VERSION:2.0
PRODID:SchoolNow
CALSCALE:GREGORIAN
BEGIN:VEVENT
UID:2d63f99c-4795-11f0-94e4-02579766d9f7
DTSTAMP:20260421T154008Z
SUMMARY:MOY TPRI (1st Grade)
URL;VALUE=URI:https://www.aristoiclassical.org/ac/calendar/8291784/moy-tpri
 -1st-grade
DTSTART;VALUE=DATE:20260112
DTEND;VALUE=DATE:20260117
END:VEVENT
END:VCALENDAR
