BEGIN:VCALENDAR
VERSION:2.0
PRODID:SchoolNow
CALSCALE:GREGORIAN
BEGIN:VEVENT
UID:2d63f8ca-4795-11f0-8e63-02579766d9f7
DTSTAMP:20260421T154008Z
SUMMARY:Beginning of the Third Nine Weeks
URL;VALUE=URI:https://www.aristoiclassical.org/ac/calendar/8291783/beginnin
 g-of-the-third-nine-weeks
DTSTART;VALUE=DATE:20260108
DTEND;VALUE=DATE:20260109
END:VEVENT
END:VCALENDAR
