BEGIN:VCALENDAR
VERSION:2.0
PRODID:SchoolNow
CALSCALE:GREGORIAN
BEGIN:VEVENT
UID:2d63f7f8-4795-11f0-b785-02579766d9f7
DTSTAMP:20260421T154008Z
SUMMARY:Educator Work Day / Student Holiday - All Campuses
URL;VALUE=URI:https://www.aristoiclassical.org/ac/calendar/8291782/educator
 -work-day-student-holiday-all-campuses
DTSTART;VALUE=DATE:20260107
DTEND;VALUE=DATE:20260108
END:VEVENT
END:VCALENDAR
