BEGIN:VCALENDAR
VERSION:2.0
PRODID:SchoolNow
CALSCALE:GREGORIAN
BEGIN:VEVENT
UID:2d63f726-4795-11f0-9c14-02579766d9f7
DTSTAMP:20260421T154008Z
SUMMARY:Open Enrollment
URL;VALUE=URI:https://www.aristoiclassical.org/ac/calendar/8291781/open-enr
 ollment
DTSTART;VALUE=DATE:20260101
DTEND;VALUE=DATE:20260201
END:VEVENT
END:VCALENDAR
