BEGIN:VCALENDAR
VERSION:2.0
PRODID:SchoolNow
CALSCALE:GREGORIAN
BEGIN:VEVENT
UID:2d63c8a0-4795-11f0-a27d-02579766d9f7
DTSTAMP:20260420T153508Z
SUMMARY:PTO Sponsored Breakfast for Staff
LOCATION:Aristoi Cypress Campus
URL;VALUE=URI:https://www.aristoiclassical.org/ac/calendar/8291727/pto-spon
 sored-breakfast-for-staff
DTSTART:20260526T140000Z
DTEND:20260526T153000Z
END:VEVENT
END:VCALENDAR
