BEGIN:VCALENDAR
VERSION:2.0
PRODID:SchoolNow
CALSCALE:GREGORIAN
BEGIN:VEVENT
UID:2d63c7c4-4795-11f0-8c25-02579766d9f7
DTSTAMP:20260420T153508Z
SUMMARY:Kindergarten Awards Ceremony
URL;VALUE=URI:https://www.aristoiclassical.org/ac/calendar/8291726/kinderga
 rten-awards-ceremony
DTSTART:20260519T213000Z
DTEND:20260519T223000Z
END:VEVENT
END:VCALENDAR
