BEGIN:VCALENDAR
VERSION:2.0
PRODID:SchoolNow
CALSCALE:GREGORIAN
BEGIN:VEVENT
UID:2d63c6e8-4795-11f0-ae43-02579766d9f7
DTSTAMP:20260420T153508Z
SUMMARY:Tom Sawyer Picnic (5th Grade)
LOCATION:Aristoi Cypress Campus
URL;VALUE=URI:https://www.aristoiclassical.org/ac/calendar/8291725/tom-sawy
 er-picnic-5th-grade
DTSTART:20260518T133000Z
DTEND:20260518T163000Z
END:VEVENT
END:VCALENDAR
