BEGIN:VCALENDAR
VERSION:2.0
PRODID:SchoolNow
CALSCALE:GREGORIAN
BEGIN:VEVENT
UID:2d63c602-4795-11f0-8eba-02579766d9f7
DTSTAMP:20260420T153508Z
SUMMARY:Celebration of the Laurel (8th Grade)
LOCATION:TBD
URL;VALUE=URI:https://www.aristoiclassical.org/ac/calendar/8291724/celebrat
 ion-of-the-laurel-8th-grade
DTSTART:20260514T230000Z
DTEND:20260515T010000Z
END:VEVENT
END:VCALENDAR
