BEGIN:VCALENDAR
VERSION:2.0
PRODID:SchoolNow
CALSCALE:GREGORIAN
BEGIN:VEVENT
UID:2d63c51c-4795-11f0-b51c-02579766d9f7
DTSTAMP:20260420T153508Z
SUMMARY:PTO General Meeting After Morning Carline
LOCATION:Cypress Foyer
URL;VALUE=URI:https://www.aristoiclassical.org/ac/calendar/8291723/pto-gene
 ral-meeting-after-morning-carline
DTSTART:20260513T130000Z
DTEND:20260513T140000Z
END:VEVENT
END:VCALENDAR
