BEGIN:VCALENDAR
VERSION:2.0
PRODID:SchoolNow
CALSCALE:GREGORIAN
BEGIN:VEVENT
UID:2d63c440-4795-11f0-9dfb-02579766d9f7
DTSTAMP:20260420T153508Z
SUMMARY:PTO General Meeting After Morning Carline
LOCATION:Cypress Foyer
URL;VALUE=URI:https://www.aristoiclassical.org/ac/calendar/8291722/pto-gene
 ral-meeting-after-morning-carline
DTSTART:20260325T130000Z
DTEND:20260325T140000Z
END:VEVENT
END:VCALENDAR
