BEGIN:VCALENDAR
VERSION:2.0
PRODID:SchoolNow
CALSCALE:GREGORIAN
BEGIN:VEVENT
UID:2d63c35a-4795-11f0-9a41-02579766d9f7
DTSTAMP:20260420T153508Z
SUMMARY:Goblet of Apollo Poetry & Tea Competition
LOCATION:TBD
URL;VALUE=URI:https://www.aristoiclassical.org/ac/calendar/8291721/goblet-o
 f-apollo-poetry-tea-competition
DTSTART:20260313T133000Z
DTEND:20260313T153000Z
END:VEVENT
END:VCALENDAR
