BEGIN:VCALENDAR
VERSION:2.0
PRODID:SchoolNow
CALSCALE:GREGORIAN
BEGIN:VEVENT
UID:2d63c274-4795-11f0-a0f1-02579766d9f7
DTSTAMP:20260420T153508Z
SUMMARY:Winter Symposium  Student Holiday - All Campuses
URL;VALUE=URI:https://www.aristoiclassical.org/ac/calendar/8291720/winter-s
 ymposium-student-holiday-all-campuses
DTSTART:20260213T150000Z
DTEND:20260213T213000Z
END:VEVENT
END:VCALENDAR
