BEGIN:VCALENDAR
VERSION:2.0
PRODID:SchoolNow
CALSCALE:GREGORIAN
BEGIN:VEVENT
UID:2d63c0a8-4795-11f0-920f-02579766d9f7
DTSTAMP:20260421T154008Z
SUMMARY:Boys Soccer Tryouts
LOCATION:YMCA @ 249
URL;VALUE=URI:https://www.aristoiclassical.org/ac/calendar/8291718/boys-soc
 cer-tryouts
DTSTART:20260122T220000Z
DTEND:20260122T234500Z
END:VEVENT
END:VCALENDAR
