BEGIN:VCALENDAR
VERSION:2.0
PRODID:SchoolNow
CALSCALE:GREGORIAN
BEGIN:VEVENT
UID:2d63bfc2-4795-11f0-876e-02579766d9f7
DTSTAMP:20260421T154008Z
SUMMARY:PTO General Meeting After Morning Carline
LOCATION:Cypress Foyer
URL;VALUE=URI:https://www.aristoiclassical.org/ac/calendar/8291717/pto-gene
 ral-meeting-after-morning-carline
DTSTART:20260121T140000Z
DTEND:20260121T150000Z
END:VEVENT
END:VCALENDAR
