BEGIN:VCALENDAR
VERSION:2.0
PRODID:SchoolNow
CALSCALE:GREGORIAN
BEGIN:VEVENT
UID:2d63bec8-4795-11f0-a585-02579766d9f7
DTSTAMP:20260421T154008Z
SUMMARY:Girls Soccer Tryouts
LOCATION:YMCA @ 249
URL;VALUE=URI:https://www.aristoiclassical.org/ac/calendar/8291716/girls-so
 ccer-tryouts
DTSTART:20260121T220000Z
DTEND:20260121T234500Z
END:VEVENT
END:VCALENDAR
