BEGIN:VCALENDAR
VERSION:2.0
PRODID:SchoolNow
CALSCALE:GREGORIAN
BEGIN:VEVENT
UID:a4482f8e-092d-11f0-a40b-0a58a9feac02
DTSTAMP:20260421T154008Z
SUMMARY:School Board Meeting
URL;VALUE=URI:https://www.aristoiclassical.org/ac/calendar/7767144/school-b
 oard-meeting
DTSTART:20261116T233000Z
DTEND:20261117T020000Z
END:VEVENT
END:VCALENDAR
