BEGIN:VCALENDAR
VERSION:2.0
PRODID:SchoolNow
CALSCALE:GREGORIAN
BEGIN:VEVENT
UID:147f2e2a-d9e4-11ef-9276-0a58a9feac02
DTSTAMP:20260421T154008Z
SUMMARY:School Board Meeting
URL;VALUE=URI:https://www.aristoiclassical.org/ac/calendar/7360285/school-b
 oard-meeting
DTSTART:20260921T223000Z
DTEND:20260922T010000Z
END:VEVENT
END:VCALENDAR
