BEGIN:VCALENDAR
VERSION:2.0
PRODID:SchoolNow
CALSCALE:GREGORIAN
BEGIN:VEVENT
UID:c5177590-c88b-11ef-ab30-0a58a9feac02
DTSTAMP:20260421T154008Z
SUMMARY:School Board Meeting
URL;VALUE=URI:https://www.aristoiclassical.org/ac/calendar/7255111/school-b
 oard-meeting
DTSTART:20260817T223000Z
DTEND:20260818T010000Z
END:VEVENT
END:VCALENDAR
