BEGIN:VCALENDAR
VERSION:2.0
PRODID:SchoolNow
CALSCALE:GREGORIAN
BEGIN:VEVENT
UID:74b5a2c8-b1ae-11ef-b78d-0e8d3d43507d
DTSTAMP:20260421T154008Z
SUMMARY:School Board Meeting
URL;VALUE=URI:https://www.aristoiclassical.org/ac/calendar/7115935/school-b
 oard-meeting
DTSTART:20260720T223000Z
DTEND:20260721T010000Z
END:VEVENT
END:VCALENDAR
