BEGIN:VCALENDAR
VERSION:2.0
PRODID:SchoolNow
CALSCALE:GREGORIAN
BEGIN:VEVENT
UID:59fb05c2-8d69-11ef-8c33-0a58a9feac02
DTSTAMP:20260420T153508Z
SUMMARY:School Board Meeting
URL;VALUE=URI:https://www.aristoiclassical.org/ac/calendar/6850663/school-b
 oard-meeting
DTSTART:20260615T223000Z
DTEND:20260616T010000Z
END:VEVENT
END:VCALENDAR
