BEGIN:VCALENDAR
VERSION:2.0
PRODID:SchoolNow
CALSCALE:GREGORIAN
BEGIN:VEVENT
UID:5ad3f2ee-6b93-11ef-9053-0a58a9feac02
DTSTAMP:20260420T153508Z
SUMMARY:School Board Meeting
URL;VALUE=URI:https://www.aristoiclassical.org/ac/calendar/6530085/school-b
 oard-meeting
DTSTART:20260420T223000Z
DTEND:20260421T010000Z
END:VEVENT
END:VCALENDAR
