BEGIN:VCALENDAR
VERSION:2.0
PRODID:SchoolNow
CALSCALE:GREGORIAN
BEGIN:VEVENT
UID:baa19180-4515-11ef-9af3-0a58a9feac02
DTSTAMP:20260420T153508Z
SUMMARY:School Board Meeting
URL;VALUE=URI:https://www.aristoiclassical.org/ac/calendar/6277312/school-b
 oard-meeting
DTSTART:20260330T223000Z
DTEND:20260331T010000Z
END:VEVENT
END:VCALENDAR
