BEGIN:VCALENDAR
VERSION:2.0
PRODID:SchoolNow
CALSCALE:GREGORIAN
BEGIN:VEVENT
UID:c68dbfa2-3dfc-11ef-aafc-0e7d660cdb7f
DTSTAMP:20260420T153508Z
SUMMARY:School Board Meeting
URL;VALUE=URI:https://www.aristoiclassical.org/ac/calendar/6236501/school-b
 oard-meeting
DTSTART:20260223T233000Z
DTEND:20260224T020000Z
END:VEVENT
END:VCALENDAR
