BEGIN:VCALENDAR
VERSION:2.0
PRODID:SchoolNow
CALSCALE:GREGORIAN
BEGIN:VEVENT
UID:611e67f2-2452-11ef-93d9-0a58a9feac02
DTSTAMP:20260420T153508Z
SUMMARY:School Board Meeting
URL;VALUE=URI:https://www.aristoiclassical.org/ac/calendar/6088439/school-b
 oard-meeting
DTSTART:20260202T233000Z
DTEND:20260203T020000Z
END:VEVENT
END:VCALENDAR
